BEGIN:VCALENDAR
VERSION:2.0
PRODID:-//ddaysoftware.com//NONSGML DDay.iCal 1.0//EN
BEGIN:VTIMEZONE
TZID:W. Europe Standard Time
BEGIN:STANDARD
DTSTART:20251002T030000
RRULE:FREQ=YEARLY;BYDAY=-1SU;BYHOUR=3;BYMINUTE=0;BYMONTH=10
TZNAME:W. Europe Standard Time
TZOFFSETFROM:+0200
TZOFFSETTO:+0100
END:STANDARD
BEGIN:DAYLIGHT
DTSTART:20250301T020000
RRULE:FREQ=YEARLY;BYDAY=-1SU;BYHOUR=2;BYMINUTE=0;BYMONTH=3
TZNAME:W. Europe Daylight Time
TZOFFSETFROM:+0100
TZOFFSETTO:+0200
END:DAYLIGHT
END:VTIMEZONE
BEGIN:VEVENT
CATEGORIES:Jugendsinfonieorchester
CATEGORIES:Konzerte
CATEGORIES:Kultur
CATEGORIES:Jugendliche
CATEGORIES:Jahreskarte
CATEGORIES:Jahreshighlights
CATEGORIES:SoundOfSchwaben
CATEGORIES:sjso-Herbstkonzerte
DESCRIPTION:\n\nVeranstalter: Bezirk Schwaben\n\nhttps://sjso.bezirk-schwab
 en.de/konzerte/herbstkonzert-2026-des-schwaebischen-jugendsinfonieorcheste
 rs-memmingen
DTEND:20260919T200000
DTSTAMP:20260422T115021Z
DTSTART:20260919T190000
LOCATION:Stadthalle Memmingen: Ulmer Str. 5\, 87700 Memmingen
SEQUENCE:0
SUMMARY:»KINO FÜR DIE OHREN« | Die Herbstkonzerte 2026 des Schwäbischen Jug
 endsinfonieorchesters
UID:56016
URL:https://sjso.bezirk-schwaben.de/konzerte/herbstkonzert-2026-des-schwaeb
 ischen-jugendsinfonieorchesters-memmingen
END:VEVENT
END:VCALENDAR
